BEGIN:VCALENDAR
VERSION:2.0
PRODID:spatie/icalendar-generator
DESCRIPTION:Events from The Austin Club
X-WR-CALDESC:Events from The Austin Club
REFRESH-INTERVAL;VALUE=DURATION:PT1440M
X-PUBLISHED-TTL:PT1440M
BEGIN:VTIMEZONE
TZID:America/Chicago
BEGIN:STANDARD
DTSTART:20251102T020000Z
TZOFFSETFROM:-0500
TZOFFSETTO:-0600
END:STANDARD
BEGIN:DAYLIGHT
DTSTART:20260308T020000Z
TZOFFSETFROM:-0600
TZOFFSETTO:-0500
END:DAYLIGHT
END:VTIMEZONE
BEGIN:VTIMEZONE
TZID:UTC
BEGIN:STANDARD
DTSTART:20250724T082625Z
TZOFFSETFROM:+0000
TZOFFSETTO:+0000
END:STANDARD
END:VTIMEZONE
BEGIN:VEVENT
UID:1186-206
DTSTAMP:20260420T082625Z
SUMMARY:Mentorship Program Networking Event
LOCATION:
ORGANIZER;CN=support@consta.link:MAILTO:support@consta.link
RRULE:FREQ=MONTHLY;BYDAY=1TU;UNTIL=20260407T000000Z
DTSTART;TZID=America/Chicago:20260303T173000
DTEND;TZID=America/Chicago:20260303T193000
X-ALT-DESC;FMTTYPE=TEXT/HTML:
CATEGORIES:General
URL;VALUE=URI:https://austinclub.com/mc-events/mentorship-program-networkin
 g-event-2/?mc_id=1186
METHOD:PUBLISH
END:VEVENT
END:VCALENDAR